BEGIN:VCALENDAR
VERSION:2.0
PRODID:-//pretix//pretix.eu//
BEGIN:VTIMEZONE
TZID:Europe/Berlin
BEGIN:STANDARD
DTSTART:20001029T040000
RRULE:FREQ=YEARLY;BYDAY=-1SU;BYMONTH=10
TZNAME:CET
TZOFFSETFROM:+0200
TZOFFSETTO:+0100
END:STANDARD
BEGIN:DAYLIGHT
DTSTART:20000326T030000
RRULE:FREQ=YEARLY;BYDAY=-1SU;BYMONTH=3
TZNAME:CEST
TZOFFSETFROM:+0100
TZOFFSETTO:+0200
END:DAYLIGHT
END:VTIMEZONE
BEGIN:VEVENT
UID:pretix-de-cix-vw9jh-0@pretix.eu
DTSTART;TZID=Europe/Berlin:20231116T183000
DTEND;TZID=Europe/Berlin:20231116T193000
DESCRIPTION:Tickets: https://pretix.eu/de-cix/vw9jh/\nEinlass: 16.11.2023 1
 8:30\nVeranstalter: DE-CIX Management GmbH
DTSTAMP:20260421T151146Z
LOCATION:Design Offices München Nove\, Luise-Ullrich-Straße 14\, 80636 M
 ünchen
SUMMARY:DE-CIX RoundTable München
END:VEVENT
END:VCALENDAR
