BEGIN:VCALENDAR
VERSION:2.0
PRODID:-//pretix//pretix.eu//
BEGIN:VTIMEZONE
TZID:Europe/Berlin
BEGIN:STANDARD
DTSTART:20001029T040000
RRULE:FREQ=YEARLY;BYDAY=-1SU;BYMONTH=10
TZNAME:CET
TZOFFSETFROM:+0200
TZOFFSETTO:+0100
END:STANDARD
BEGIN:DAYLIGHT
DTSTART:20000326T030000
RRULE:FREQ=YEARLY;BYDAY=-1SU;BYMONTH=3
TZNAME:CEST
TZOFFSETFROM:+0100
TZOFFSETTO:+0200
END:DAYLIGHT
END:VTIMEZONE
BEGIN:VEVENT
UID:pretix-demokratieingefahr-klimakrise-0@pretix.eu
DTSTART;TZID=Europe/Berlin:20240424T180000
DTEND;TZID=Europe/Berlin:20240424T203000
DESCRIPTION:Tickets: https://pretix.eu/demokratieingefahr/klimakrise/\nVera
 nstalter: Allgemeiner Studierendenausschuss Hochschule Darmstadt
DTSTAMP:20260421T224102Z
LOCATION:Café Glaskasten (h_da)\, Gebäude C10\, Schöfferstraße 3\, 6429
 5 Darmstadt
SUMMARY:Demokratie in Gefahr - Wie die Klimakrise unsere Gesellschaft betri
 fft - Fish-Bowl-Diskussion:
END:VEVENT
END:VCALENDAR
