BEGIN:VCALENDAR
VERSION:2.0
PRODID:-//pretix//pretix.eu//
BEGIN:VTIMEZONE
TZID:Europe/Berlin
BEGIN:STANDARD
DTSTART:20001029T040000
RRULE:FREQ=YEARLY;BYDAY=-1SU;BYMONTH=10
TZNAME:CET
TZOFFSETFROM:+0200
TZOFFSETTO:+0100
END:STANDARD
BEGIN:DAYLIGHT
DTSTART:20000326T030000
RRULE:FREQ=YEARLY;BYDAY=-1SU;BYMONTH=3
TZNAME:CEST
TZOFFSETFROM:+0100
TZOFFSETTO:+0200
END:DAYLIGHT
END:VTIMEZONE
BEGIN:VEVENT
UID:pretix-demoshops-demofest-0@pretix.eu
DTSTART;TZID=Europe/Berlin:20300523T140000
DTEND;TZID=Europe/Berlin:20300525T180000
DESCRIPTION:Tickets: https://pretix.eu/demoshops/demofest/\nEinlass: 23.05.
 2025 13:30\nVeranstalter: pretix Demoshops
DTSTAMP:20260424T085718Z
LOCATION:Berthold-Mogel-Straße 2\, Heidelberg
SUMMARY:Demo Festival
END:VEVENT
END:VCALENDAR
