BEGIN:VCALENDAR
VERSION:2.0
PRODID:-//pretix//pretix.eu//
BEGIN:VTIMEZONE
TZID:Europe/Berlin
BEGIN:STANDARD
DTSTART:20001029T040000
RRULE:FREQ=YEARLY;BYDAY=-1SU;BYMONTH=10
TZNAME:CET
TZOFFSETFROM:+0200
TZOFFSETTO:+0100
END:STANDARD
BEGIN:DAYLIGHT
DTSTART:20000326T030000
RRULE:FREQ=YEARLY;BYDAY=-1SU;BYMONTH=3
TZNAME:CEST
TZOFFSETFROM:+0100
TZOFFSETTO:+0200
END:DAYLIGHT
END:VTIMEZONE
BEGIN:VEVENT
UID:pretix-demoshops-demomesse-0@pretix.eu
DTSTART;TZID=Europe/Berlin:20340908T100000
DTEND;TZID=Europe/Berlin:20340910T180000
DESCRIPTION:Tickets: https://pretix.eu/demoshops/demomesse/\nVeranstalter: 
 pretix Demoshops
DTSTAMP:20260424T154817Z
LOCATION:Berthold-Mogel-Straße 2\, Heidelberg
SUMMARY:Demo Messe
END:VEVENT
END:VCALENDAR
