BEGIN:VCALENDAR
VERSION:2.0
PRODID:-//pretix//pretix.eu//
BEGIN:VTIMEZONE
TZID:Europe/Berlin
BEGIN:STANDARD
DTSTART:20001029T040000
RRULE:FREQ=YEARLY;BYDAY=-1SU;BYMONTH=10
TZNAME:CET
TZOFFSETFROM:+0200
TZOFFSETTO:+0100
END:STANDARD
BEGIN:DAYLIGHT
DTSTART:20000326T030000
RRULE:FREQ=YEARLY;BYDAY=-1SU;BYMONTH=3
TZNAME:CEST
TZOFFSETFROM:+0100
TZOFFSETTO:+0200
END:DAYLIGHT
END:VTIMEZONE
BEGIN:VEVENT
UID:pretix-demoshops-demotheatre-4005546@pretix.eu
DTSTART;TZID=Europe/Berlin:20250225T130000
DTEND;TZID=Europe/Berlin:20250225T140000
DESCRIPTION:Tickets: https://pretix.eu/demoshops/demotheatre/4005546/\nEinl
 ass: 25.02.2025 12:45\nVeranstalter: pretix Demoshops
DTSTAMP:20260425T015605Z
SUMMARY:Mittagsauffürung
END:VEVENT
END:VCALENDAR
