BEGIN:VCALENDAR
VERSION:2.0
PRODID:-//pretix//pretix.eu//
BEGIN:VTIMEZONE
TZID:Europe/Berlin
BEGIN:STANDARD
DTSTART:20001029T040000
RRULE:FREQ=YEARLY;BYDAY=-1SU;BYMONTH=10
TZNAME:CET
TZOFFSETFROM:+0200
TZOFFSETTO:+0100
END:STANDARD
BEGIN:DAYLIGHT
DTSTART:20000326T030000
RRULE:FREQ=YEARLY;BYDAY=-1SU;BYMONTH=3
TZNAME:CEST
TZOFFSETFROM:+0100
TZOFFSETTO:+0200
END:DAYLIGHT
END:VTIMEZONE
BEGIN:VEVENT
UID:pretix-dfrv-rg-mue-2025-05-7-0@pretix.eu
DTSTART;TZID=Europe/Berlin:20250507T190000
DTEND;TZID=Europe/Berlin:20250507T235900
DESCRIPTION:Tickets: https://pretix.eu/dfrv/rg-mue-2025-05-7/\nVeranstalter
 : Deutscher Fundraising Verband e.V.
DTSTAMP:20260423T205500Z
LOCATION:Caritasverband der Erzdiözese München und Freising e.V.\,\, Läm
 merstraße 3 80335 München
SUMMARY:Treffen der Regionalgruppe München am 07.05 |Großspenden und Spen
 derwünsche – Auswege aus der Quadratur des Kreises
END:VEVENT
END:VCALENDAR
