BEGIN:VCALENDAR
VERSION:2.0
PRODID:-//pretix//pretix.eu//
BEGIN:VTIMEZONE
TZID:Europe/Berlin
BEGIN:STANDARD
DTSTART:20001029T040000
RRULE:FREQ=YEARLY;BYDAY=-1SU;BYMONTH=10
TZNAME:CET
TZOFFSETFROM:+0200
TZOFFSETTO:+0100
END:STANDARD
BEGIN:DAYLIGHT
DTSTART:20000326T030000
RRULE:FREQ=YEARLY;BYDAY=-1SU;BYMONTH=3
TZNAME:CEST
TZOFFSETFROM:+0100
TZOFFSETTO:+0200
END:DAYLIGHT
END:VTIMEZONE
BEGIN:VEVENT
UID:pretix-dgkim-KSGQZ24-0@pretix.eu
DTSTART;TZID=Europe/Berlin:20241108T130000
DTEND;TZID=Europe/Berlin:20241109T130000
DESCRIPTION:Tickets: https://pretix.eu/dgkim/KSGQZ24/\nVeranstalter: DGKiM 
 e.V.
DTSTAMP:20260420T152753Z
LOCATION:Frauen und Kinderklinik St . Louise\, im Campus für Gesundheitsfa
 chberufe\,\, Husener Str. 81\, 33098 Paderborn
SUMMARY:Bundesweiter Qualitätszirkel der Kinderschutzgruppen 2024 in Pader
 born
END:VEVENT
END:VCALENDAR
