BEGIN:VCALENDAR
VERSION:2.0
PRODID:-//pretix//pretix.eu//
BEGIN:VTIMEZONE
TZID:Europe/Berlin
BEGIN:STANDARD
DTSTART:20001029T040000
RRULE:FREQ=YEARLY;BYDAY=-1SU;BYMONTH=10
TZNAME:CET
TZOFFSETFROM:+0200
TZOFFSETTO:+0100
END:STANDARD
BEGIN:DAYLIGHT
DTSTART:20000326T030000
RRULE:FREQ=YEARLY;BYDAY=-1SU;BYMONTH=3
TZNAME:CEST
TZOFFSETFROM:+0100
TZOFFSETTO:+0200
END:DAYLIGHT
END:VTIMEZONE
BEGIN:VEVENT
UID:pretix-dgtf-dp33-0@pretix.eu
DTSTART;TZID=Europe/Berlin:20260120T100000
DTEND;TZID=Europe/Berlin:20260120T190000
DESCRIPTION:Tickets: https://pretix.eu/dgtf/dp33/\nAdmission: 2026-01-20 09
 :45\nOrganizer: Deutsche Gesellschaft für Designtheorie und -forschung
DTSTAMP:20260420T003426Z
LOCATION:New Design University\,\, Mariazeller Str. 97a\, 3100 St. Pölten\
 , Österreich
SUMMARY:33. Kolloquium design:promoviert
END:VEVENT
END:VCALENDAR
