BEGIN:VCALENDAR
VERSION:2.0
PRODID:-//pretix//pretix.eu//
BEGIN:VTIMEZONE
TZID:Europe/Berlin
BEGIN:STANDARD
DTSTART:20001029T040000
RRULE:FREQ=YEARLY;BYDAY=-1SU;BYMONTH=10
TZNAME:CET
TZOFFSETFROM:+0200
TZOFFSETTO:+0100
END:STANDARD
BEGIN:DAYLIGHT
DTSTART:20000326T030000
RRULE:FREQ=YEARLY;BYDAY=-1SU;BYMONTH=3
TZNAME:CEST
TZOFFSETFROM:+0100
TZOFFSETTO:+0200
END:DAYLIGHT
END:VTIMEZONE
BEGIN:VEVENT
UID:pretix-diaplan-26exfo02-0@pretix.eu
DTSTART;TZID=Europe/Berlin:20261202T180000
DTEND;TZID=Europe/Berlin:20261202T201500
DESCRIPTION:Tickets: https://pretix.eu/diaplan/26exfo02/\nVeranstalter: dia
 plan GmbH
DTSTAMP:20260421T184458Z
LOCATION:COURTYARD BY MARRIOTT BERLIN CITY CENTER\, Axel-Springer-Strasse 5
 5\, 10117 Berlin
SUMMARY:BNK Expertenforum Herzinsuffizienz 02.12.2026 Berlin
END:VEVENT
END:VCALENDAR
