BEGIN:VCALENDAR
VERSION:2.0
PRODID:-//pretix//pretix.eu//
BEGIN:VTIMEZONE
TZID:Europe/Berlin
BEGIN:STANDARD
DTSTART:20001029T040000
RRULE:FREQ=YEARLY;BYDAY=-1SU;BYMONTH=10
TZNAME:CET
TZOFFSETFROM:+0200
TZOFFSETTO:+0100
END:STANDARD
BEGIN:DAYLIGHT
DTSTART:20000326T030000
RRULE:FREQ=YEARLY;BYDAY=-1SU;BYMONTH=3
TZNAME:CEST
TZOFFSETFROM:+0100
TZOFFSETTO:+0200
END:DAYLIGHT
END:VTIMEZONE
BEGIN:VEVENT
UID:pretix-diaplan-26gako04-0@pretix.eu
DTSTART;TZID=Europe/Berlin:20260627T090000
DTEND;TZID=Europe/Berlin:20260627T134000
DESCRIPTION:Tickets: https://pretix.eu/diaplan/26gako04/\nVeranstalter: dia
 plan GmbH
DTSTAMP:20260425T102123Z
LOCATION:Novotel Münster City\, Von-Steuben-Straße 4 – 6\, 48143 Münster
SUMMARY:Gastro Kompass 27.06.2026 Münster
END:VEVENT
END:VCALENDAR
