BEGIN:VCALENDAR
VERSION:2.0
PRODID:-//pretix//pretix.eu//
BEGIN:VTIMEZONE
TZID:Europe/Berlin
BEGIN:STANDARD
DTSTART:20001029T040000
RRULE:FREQ=YEARLY;BYDAY=-1SU;BYMONTH=10
TZNAME:CET
TZOFFSETFROM:+0200
TZOFFSETTO:+0100
END:STANDARD
BEGIN:DAYLIGHT
DTSTART:20000326T030000
RRULE:FREQ=YEARLY;BYDAY=-1SU;BYMONTH=3
TZNAME:CEST
TZOFFSETFROM:+0100
TZOFFSETTO:+0200
END:DAYLIGHT
END:VTIMEZONE
BEGIN:VEVENT
UID:pretix-diaplan-26gako07-0@pretix.eu
DTSTART;TZID=Europe/Berlin:20261121T090000
DTEND;TZID=Europe/Berlin:20261121T134000
DESCRIPTION:Tickets: https://pretix.eu/diaplan/26gako07/\nVeranstalter: dia
 plan GmbH
DTSTAMP:20260425T102125Z
LOCATION:Maritim Hotel Magdeburg\, Otto-von-Guericke-Straße 87\, 39104 Mag
 deburg
SUMMARY:Gastro Kompass 21.11.2026 Magdeburg
END:VEVENT
END:VCALENDAR
