BEGIN:VCALENDAR
VERSION:2.0
PRODID:-//pretix//pretix.eu//
BEGIN:VTIMEZONE
TZID:Europe/Berlin
BEGIN:STANDARD
DTSTART:20001029T040000
RRULE:FREQ=YEARLY;BYDAY=-1SU;BYMONTH=10
TZNAME:CET
TZOFFSETFROM:+0200
TZOFFSETTO:+0100
END:STANDARD
BEGIN:DAYLIGHT
DTSTART:20000326T030000
RRULE:FREQ=YEARLY;BYDAY=-1SU;BYMONTH=3
TZNAME:CEST
TZOFFSETFROM:+0100
TZOFFSETTO:+0200
END:DAYLIGHT
END:VTIMEZONE
BEGIN:VEVENT
UID:pretix-diaplan-26kmrt-0@pretix.eu
DTSTART;TZID=Europe/Berlin:20260610T160000
DTEND;TZID=Europe/Berlin:20260610T201500
DESCRIPTION:Tickets: https://pretix.eu/diaplan/26kmrt/\nVeranstalter: diapl
 an GmbH
DTSTAMP:20260423T052248Z
LOCATION:Haus der Universität\, Schadowplatz 14\, 40212 Düsseldorf
SUMMARY:Kardio-MRT im klinischen Alltag - 4. CMR-Symposium 10.06.2026 | Dü
 sseldorf
END:VEVENT
END:VCALENDAR
