BEGIN:VCALENDAR
VERSION:2.0
PRODID:-//pretix//pretix.eu//
BEGIN:VTIMEZONE
TZID:Europe/Berlin
BEGIN:STANDARD
DTSTART:20001029T040000
RRULE:FREQ=YEARLY;BYDAY=-1SU;BYMONTH=10
TZNAME:CET
TZOFFSETFROM:+0200
TZOFFSETTO:+0100
END:STANDARD
BEGIN:DAYLIGHT
DTSTART:20000326T030000
RRULE:FREQ=YEARLY;BYDAY=-1SU;BYMONTH=3
TZNAME:CEST
TZOFFSETFROM:+0100
TZOFFSETTO:+0200
END:DAYLIGHT
END:VTIMEZONE
BEGIN:VEVENT
UID:pretix-diaplan-26kr02-0@pretix.eu
DTSTART;TZID=Europe/Berlin:20260509T090000
DTEND;TZID=Europe/Berlin:20260509T150000
DESCRIPTION:Tickets: https://pretix.eu/diaplan/26kr02/\nVeranstalter: diapl
 an GmbH
DTSTAMP:20260422T003607Z
LOCATION:Marriott Hotel Köln\, Johannisstraße 76-80\, 50668 Köln
SUMMARY:Kardiologie Regional Köln
END:VEVENT
END:VCALENDAR
