BEGIN:VCALENDAR
VERSION:2.0
PRODID:-//pretix//pretix.eu//
BEGIN:VTIMEZONE
TZID:Europe/Berlin
BEGIN:STANDARD
DTSTART:20001029T040000
RRULE:FREQ=YEARLY;BYDAY=-1SU;BYMONTH=10
TZNAME:CET
TZOFFSETFROM:+0200
TZOFFSETTO:+0100
END:STANDARD
BEGIN:DAYLIGHT
DTSTART:20000326T030000
RRULE:FREQ=YEARLY;BYDAY=-1SU;BYMONTH=3
TZNAME:CEST
TZOFFSETFROM:+0100
TZOFFSETTO:+0200
END:DAYLIGHT
END:VTIMEZONE
BEGIN:VEVENT
UID:pretix-diaplan-26kr03-0@pretix.eu
DTSTART;TZID=Europe/Berlin:20260704T090000
DTEND;TZID=Europe/Berlin:20260704T134500
DESCRIPTION:Tickets: https://pretix.eu/diaplan/26kr03/\nVeranstalter: diapl
 an GmbH
DTSTAMP:20260422T003607Z
LOCATION:Novotel Freiburg am Konzerthaus\, Konrad Adenauer Platz 2\, 79098 
 Freiburg
SUMMARY:Kardiologie Regional Freiburg
END:VEVENT
END:VCALENDAR
