BEGIN:VCALENDAR
VERSION:2.0
PRODID:-//pretix//pretix.eu//
BEGIN:VTIMEZONE
TZID:Europe/Berlin
BEGIN:STANDARD
DTSTART:20001029T040000
RRULE:FREQ=YEARLY;BYDAY=-1SU;BYMONTH=10
TZNAME:CET
TZOFFSETFROM:+0200
TZOFFSETTO:+0100
END:STANDARD
BEGIN:DAYLIGHT
DTSTART:20000326T030000
RRULE:FREQ=YEARLY;BYDAY=-1SU;BYMONTH=3
TZNAME:CEST
TZOFFSETFROM:+0100
TZOFFSETTO:+0200
END:DAYLIGHT
END:VTIMEZONE
BEGIN:VEVENT
UID:pretix-diaplan-26nf-0@pretix.eu
DTSTART;TZID=Europe/Berlin:20260822T083000
DTEND;TZID=Europe/Berlin:20260822T140000
DESCRIPTION:Tickets: https://pretix.eu/diaplan/26nf/\nVeranstalter: diaplan
  GmbH
DTSTAMP:20260422T201828Z
LOCATION:Best Western Plus Plaza Hotel Darmstadt\, Am Kavalleriesand 6\, 64
 295 Darmstadt
SUMMARY:Neuro Fokus 22.08.2026 | Darmstadt
END:VEVENT
END:VCALENDAR
