BEGIN:VCALENDAR
VERSION:2.0
PRODID:-//pretix//pretix.eu//
BEGIN:VTIMEZONE
TZID:Europe/Berlin
BEGIN:STANDARD
DTSTART:20001029T040000
RRULE:FREQ=YEARLY;BYDAY=-1SU;BYMONTH=10
TZNAME:CET
TZOFFSETFROM:+0200
TZOFFSETTO:+0100
END:STANDARD
BEGIN:DAYLIGHT
DTSTART:20000326T030000
RRULE:FREQ=YEARLY;BYDAY=-1SU;BYMONTH=3
TZNAME:CEST
TZOFFSETFROM:+0100
TZOFFSETTO:+0200
END:DAYLIGHT
END:VTIMEZONE
BEGIN:VEVENT
UID:pretix-diaplan-26phkurs04-0@pretix.eu
DTSTART;TZID=Europe/Berlin:20260619T100000
DTEND;TZID=Europe/Berlin:20260619T174500
DESCRIPTION:Tickets: https://pretix.eu/diaplan/26phkurs04/\nVeranstalter: d
 iaplan GmbH
DTSTAMP:20260423T000755Z
LOCATION:Universitätsklinikum Giessen und Marburg GmbH\, Klinikneubau\, Ne
 urologie\, Klinikstr. 33\, 35392 Gießen
SUMMARY:Philips Ultraschallkurs Nerven- und Muskelsonographie | Grundlagenk
 urs (1)
END:VEVENT
END:VCALENDAR
