BEGIN:VCALENDAR
VERSION:2.0
PRODID:-//pretix//pretix.eu//
BEGIN:VTIMEZONE
TZID:Europe/Berlin
BEGIN:STANDARD
DTSTART:20001029T040000
RRULE:FREQ=YEARLY;BYDAY=-1SU;BYMONTH=10
TZNAME:CET
TZOFFSETFROM:+0200
TZOFFSETTO:+0100
END:STANDARD
BEGIN:DAYLIGHT
DTSTART:20000326T030000
RRULE:FREQ=YEARLY;BYDAY=-1SU;BYMONTH=3
TZNAME:CEST
TZOFFSETFROM:+0100
TZOFFSETTO:+0200
END:DAYLIGHT
END:VTIMEZONE
BEGIN:VEVENT
UID:pretix-diaplan-26phkurs06-0@pretix.eu
DTSTART;TZID=Europe/Berlin:20261016T140000
DTEND;TZID=Europe/Berlin:20261017T131500
DESCRIPTION:Tickets: https://pretix.eu/diaplan/26phkurs06/\nVeranstalter: d
 iaplan GmbH
DTSTAMP:20260422T201806Z
LOCATION:Tag 1)Robert-Bosch-Krankenhaus\, Auerbachstr. 120\, 70376 Stuttgar
 t\, Tag 2) Radisson Blu Hotel at Porsche Design Tower Stuttgart
SUMMARY:Philips Ultraschallkurs 3D-TEE (2)
END:VEVENT
END:VCALENDAR
