BEGIN:VCALENDAR
VERSION:2.0
PRODID:-//pretix//pretix.eu//
BEGIN:VEVENT
UID:pretix-diaplan-26zns-0@pretix.eu
DTSTART;VALUE=DATE:20260226
DTEND;VALUE=DATE:20260301
DESCRIPTION:Tickets: https://pretix.eu/diaplan/26zns/\nVeranstalter: diapla
 n GmbH
DTSTAMP:20260421T133947Z
LOCATION:Marriott Hotel\, Johannisstraße 76-80\, 50668 Köln
SUMMARY:ZNS Tage 2026
END:VEVENT
END:VCALENDAR
