BEGIN:VCALENDAR
VERSION:2.0
PRODID:-//pretix//pretix.eu//
BEGIN:VTIMEZONE
TZID:Europe/Berlin
BEGIN:STANDARD
DTSTART:20001029T040000
RRULE:FREQ=YEARLY;BYDAY=-1SU;BYMONTH=10
TZNAME:CET
TZOFFSETFROM:+0200
TZOFFSETTO:+0100
END:STANDARD
BEGIN:DAYLIGHT
DTSTART:20000326T030000
RRULE:FREQ=YEARLY;BYDAY=-1SU;BYMONTH=3
TZNAME:CEST
TZOFFSETFROM:+0100
TZOFFSETTO:+0200
END:DAYLIGHT
END:VTIMEZONE
BEGIN:VEVENT
UID:pretix-digitizewoodbw-digitizewood-0@pretix.eu
DTSTART;TZID=Europe/Berlin:20200917T090000
DTEND;TZID=Europe/Berlin:20200917T163000
DESCRIPTION:Tickets: https://pretix.eu/digitizewoodbw/digitizewood/\nVerans
 talter: Ministerium für Ländlichen Raum und Verbraucherschutz
DTSTAMP:20260420T034200Z
LOCATION:*** HYBRIDES EVENT ***\, Sie nehmen vor Ort in Freiburg oder onlin
 e teil.\, Location vor Ort:\, Lokhalle Freiburg\, Paul-Ehrlich-Straße 5 -
  13\, 79106 Freiburg
SUMMARY:DigitizeWood - Barcamp zur Digitalisierung im Holzbau (Freiburg und
  Online)
END:VEVENT
END:VCALENDAR
