BEGIN:VCALENDAR
VERSION:2.0
PRODID:-//pretix//pretix.eu//
BEGIN:VTIMEZONE
TZID:Europe/London
BEGIN:STANDARD
DTSTART:20001029T030000
RRULE:FREQ=YEARLY;BYDAY=-1SU;BYMONTH=10
TZNAME:GMT
TZOFFSETFROM:+0100
TZOFFSETTO:+0000
END:STANDARD
BEGIN:DAYLIGHT
DTSTART:20000326T020000
RRULE:FREQ=YEARLY;BYDAY=-1SU;BYMONTH=3
TZNAME:BST
TZOFFSETFROM:+0000
TZOFFSETTO:+0100
END:DAYLIGHT
END:VTIMEZONE
BEGIN:VEVENT
UID:pretix-docklandmedia-cdslondon2026-0@pretix.eu
DTSTART;TZID=Europe/London:20260211T090000
DTEND;TZID=Europe/London:20260212T180000
DESCRIPTION:Tickets: https://pretix.eu/docklandmedia/cdslondon2026/\nOrgani
 zer: Dockland Media Group
DTSTAMP:20260422T165043Z
LOCATION:Truman Brewery\, 15 Hanbury St\, E1 6QR\, London
SUMMARY:ContainerDays & MCPconference London 2026
END:VEVENT
END:VCALENDAR
