BEGIN:VCALENDAR
VERSION:2.0
PRODID:-//pretix//pretix.eu//
BEGIN:VTIMEZONE
TZID:Europe/Lisbon
BEGIN:STANDARD
DTSTART:20001029T030000
RRULE:FREQ=YEARLY;BYDAY=-1SU;BYMONTH=10
TZNAME:WET
TZOFFSETFROM:+0100
TZOFFSETTO:+0000
END:STANDARD
BEGIN:DAYLIGHT
DTSTART:20000326T020000
RRULE:FREQ=YEARLY;BYDAY=-1SU;BYMONTH=3
TZNAME:WEST
TZOFFSETFROM:+0000
TZOFFSETTO:+0100
END:DAYLIGHT
END:VTIMEZONE
BEGIN:VEVENT
UID:pretix-domocamportugal-2025-2-4288111@pretix.eu
DTSTART;TZID=Europe/Lisbon:20250829T140000
DTEND;TZID=Europe/Lisbon:20250901T140000
DESCRIPTION:Bilhetes: https://pretix.eu/domocamportugal/2025-2/4288111/\nOr
 ganizador: Domo Camp Lda
DTSTAMP:20260420T160749Z
LOCATION:Rua Fundação Albino Mendes da Silva\,\, 3400-570 São Gião
SUMMARY:INSOMNIA 2025
END:VEVENT
END:VCALENDAR
