BEGIN:VCALENDAR
VERSION:2.0
PRODID:-//pretix//pretix.eu//
BEGIN:VTIMEZONE
TZID:Europe/Berlin
BEGIN:STANDARD
DTSTART:20001029T040000
RRULE:FREQ=YEARLY;BYDAY=-1SU;BYMONTH=10
TZNAME:CET
TZOFFSETFROM:+0200
TZOFFSETTO:+0100
END:STANDARD
BEGIN:DAYLIGHT
DTSTART:20000326T030000
RRULE:FREQ=YEARLY;BYDAY=-1SU;BYMONTH=3
TZNAME:CEST
TZOFFSETFROM:+0100
TZOFFSETTO:+0200
END:DAYLIGHT
END:VTIMEZONE
BEGIN:VEVENT
UID:pretix-domstaedter-20-4594623@pretix.eu
DTSTART;TZID=Europe/Berlin:20251221T160000
DTEND;TZID=Europe/Berlin:20251221T170000
DESCRIPTION:Tickets: https://pretix.eu/domstaedter/20/4594623/\nEinlass: 21
 .12.2025 15:00\nVeranstalter: Domstädter Köln e.V.
DTSTAMP:20260424T135258Z
LOCATION:Großer Konzertsaal\,\, Hochschule für Musik und Tanz Köln\, Unt
 er Krahnenbäumen 87\, 50668 Köln
SUMMARY:Weihnachtskonzert 2025
END:VEVENT
END:VCALENDAR
