BEGIN:VCALENDAR
VERSION:2.0
PRODID:-//pretix//pretix.eu//
BEGIN:VTIMEZONE
TZID:Europe/Berlin
BEGIN:STANDARD
DTSTART:20001029T040000
RRULE:FREQ=YEARLY;BYDAY=-1SU;BYMONTH=10
TZNAME:CET
TZOFFSETFROM:+0200
TZOFFSETTO:+0100
END:STANDARD
BEGIN:DAYLIGHT
DTSTART:20000326T030000
RRULE:FREQ=YEARLY;BYDAY=-1SU;BYMONTH=3
TZNAME:CEST
TZOFFSETFROM:+0100
TZOFFSETTO:+0200
END:DAYLIGHT
END:VTIMEZONE
BEGIN:VEVENT
UID:pretix-dwa-bw.de-prueck-rkon-21-4-2-0@pretix.eu
DTSTART;TZID=Europe/Berlin:20210218T100000
DTEND;TZID=Europe/Berlin:20210218T123000
DESCRIPTION:Tickets: https://pretix.eu/dwa-bw.de/prueck-rkon-21-4-2/\nEinla
 ss: 18.02.2021 09:55\nVeranstalter: Christiane Schäfer
DTSTAMP:20260423T101159Z
LOCATION:DWA Landesverband Baden-Württemberg\, Rennstr. 8\, 70499 Stuttgar
 t
SUMMARY:Regionalkonferenzreihe der Plattform P-RÜCK „Wege zur sicheren K
 lärschlammentsorgung und Phosphorrückgewinnung in Baden-Württemberg“
END:VEVENT
END:VCALENDAR
