BEGIN:VCALENDAR
VERSION:2.0
PRODID:-//pretix//pretix.eu//
BEGIN:VTIMEZONE
TZID:Europe/Berlin
BEGIN:STANDARD
DTSTART:20001029T040000
RRULE:FREQ=YEARLY;BYDAY=-1SU;BYMONTH=10
TZNAME:CET
TZOFFSETFROM:+0200
TZOFFSETTO:+0100
END:STANDARD
BEGIN:DAYLIGHT
DTSTART:20000326T030000
RRULE:FREQ=YEARLY;BYDAY=-1SU;BYMONTH=3
TZNAME:CEST
TZOFFSETFROM:+0100
TZOFFSETTO:+0200
END:DAYLIGHT
END:VTIMEZONE
BEGIN:VEVENT
UID:pretix-eco-byl3e-0@pretix.eu
DTSTART;TZID=Europe/Berlin:20250625T173000
DTEND;TZID=Europe/Berlin:20250625T210000
DESCRIPTION:Tickets: https://pretix.eu/eco/byl3e/\nVeranstalter: eco Servic
 e GmbH
DTSTAMP:20260421T002332Z
LOCATION:Microsoft Atrium\, Charlottenstraße 46\, 10117 Berlin
SUMMARY:KI Future Tech Summit - Berlin
END:VEVENT
END:VCALENDAR
