BEGIN:VCALENDAR
VERSION:2.0
PRODID:-//pretix//pretix.eu//
BEGIN:VEVENT
UID:pretix-eco-dces26-0@pretix.eu
DTSTART;VALUE=DATE:20260610
DTEND;VALUE=DATE:20260612
DESCRIPTION:Tickets: https://pretix.eu/eco/dces26/\nVeranstalter: eco Servi
 ce GmbH
DTSTAMP:20260424T101058Z
LOCATION:area3 - Bildung\, Kultur\, Business\, Hans-Strothoff-Platz 1\, 633
 03 Dreieich (bei Frankfurt am Main)\, Germany
SUMMARY:Data Center Expert Summit & Award 2026
END:VEVENT
END:VCALENDAR
