BEGIN:VCALENDAR
VERSION:2.0
PRODID:-//pretix//pretix.eu//
BEGIN:VTIMEZONE
TZID:Europe/Berlin
BEGIN:STANDARD
DTSTART:20001029T040000
RRULE:FREQ=YEARLY;BYDAY=-1SU;BYMONTH=10
TZNAME:CET
TZOFFSETFROM:+0200
TZOFFSETTO:+0100
END:STANDARD
BEGIN:DAYLIGHT
DTSTART:20000326T030000
RRULE:FREQ=YEARLY;BYDAY=-1SU;BYMONTH=3
TZNAME:CEST
TZOFFSETFROM:+0100
TZOFFSETTO:+0200
END:DAYLIGHT
END:VTIMEZONE
BEGIN:VEVENT
UID:pretix-eigenleben.de-akcev-0@pretix.eu
DTSTART;TZID=Europe/Berlin:20231005T173000
DTEND;TZID=Europe/Berlin:20231005T213000
DESCRIPTION:Tickets: https://pretix.eu/eigenleben.de/akcev/\nVeranstalter: 
 eigenleben gemeinnützige GmbH
DTSTAMP:20260420T052226Z
LOCATION:Raum für eigenleben\, Kurfürstenstr. 2\, 80799 München
SUMMARY:Heimatabend Finnland
END:VEVENT
END:VCALENDAR
