BEGIN:VCALENDAR
VERSION:2.0
PRODID:-//pretix//pretix.eu//
BEGIN:VTIMEZONE
TZID:Europe/Berlin
BEGIN:STANDARD
DTSTART:20001029T040000
RRULE:FREQ=YEARLY;BYDAY=-1SU;BYMONTH=10
TZNAME:CET
TZOFFSETFROM:+0200
TZOFFSETTO:+0100
END:STANDARD
BEGIN:DAYLIGHT
DTSTART:20000326T030000
RRULE:FREQ=YEARLY;BYDAY=-1SU;BYMONTH=3
TZNAME:CEST
TZOFFSETFROM:+0100
TZOFFSETTO:+0200
END:DAYLIGHT
END:VTIMEZONE
BEGIN:VEVENT
UID:pretix-elbsides-elbsides-conf-2026-0@pretix.eu
DTSTART;TZID=Europe/Berlin:20260605T090000
DTEND;TZID=Europe/Berlin:20260605T200000
DESCRIPTION:Tickets: https://pretix.eu/elbsides/elbsides-conf-2026/\nAdmiss
 ion: 2026-06-05 08:00\nOrganizer: Elbsides
DTSTAMP:20260422T093153Z
LOCATION:Hotel Hafen Hamburg\, Seewartenstrasse 9\, 20459 Hamburg
SUMMARY:Elbsides Conference 2026
END:VEVENT
END:VCALENDAR
