BEGIN:VCALENDAR
VERSION:2.0
PRODID:-//pretix//pretix.eu//
BEGIN:VTIMEZONE
TZID:Europe/Berlin
BEGIN:STANDARD
DTSTART:20001029T040000
RRULE:FREQ=YEARLY;BYDAY=-1SU;BYMONTH=10
TZNAME:CET
TZOFFSETFROM:+0200
TZOFFSETTO:+0100
END:STANDARD
BEGIN:DAYLIGHT
DTSTART:20000326T030000
RRULE:FREQ=YEARLY;BYDAY=-1SU;BYMONTH=3
TZNAME:CEST
TZOFFSETFROM:+0100
TZOFFSETTO:+0200
END:DAYLIGHT
END:VTIMEZONE
BEGIN:VEVENT
UID:pretix-emilaccba-7erfs-0@pretix.eu
DTSTART;TZID=Europe/Berlin:20251213T140000
DTEND;TZID=Europe/Berlin:20251213T173000
DESCRIPTION:Tickets : https://pretix.eu/emilaccba/7erfs/\nAdmission : 23/
 10/2025 00:00\nOrganisateur : Emila Ecole de musique intercommunale
DTSTAMP:20260424T231158Z
LOCATION:Daniel Frouvelle\, 3 chemin du Ducède\, 31190 Grépiac
SUMMARY:BAL TRAD' 13/12/25
END:VEVENT
END:VCALENDAR
