BEGIN:VCALENDAR
VERSION:2.0
PRODID:-//pretix//pretix.eu//
BEGIN:VTIMEZONE
TZID:Europe/Berlin
BEGIN:STANDARD
DTSTART:20001029T040000
RRULE:FREQ=YEARLY;BYDAY=-1SU;BYMONTH=10
TZNAME:CET
TZOFFSETFROM:+0200
TZOFFSETTO:+0100
END:STANDARD
BEGIN:DAYLIGHT
DTSTART:20000326T030000
RRULE:FREQ=YEARLY;BYDAY=-1SU;BYMONTH=3
TZNAME:CEST
TZOFFSETFROM:+0100
TZOFFSETTO:+0200
END:DAYLIGHT
END:VTIMEZONE
BEGIN:VEVENT
UID:pretix-encc-2026-conference-0@pretix.eu
DTSTART;TZID=Europe/Berlin:20260520T120000
DTEND;TZID=Europe/Berlin:20260522T130000
DESCRIPTION:Tickets: https://pretix.eu/encc/2026-conference/\nAdmission: 20
 26-05-20 12:00\nOrganizer: European Network of Cultural Centres
DTSTAMP:20260422T085635Z
LOCATION:Carpintarias de São Lázaro\, Lisbon\, Portugal
SUMMARY:Culture Converge 2026
END:VEVENT
END:VCALENDAR
