BEGIN:VCALENDAR
VERSION:2.0
PRODID:-//pretix//pretix.eu//
BEGIN:VTIMEZONE
TZID:Europe/Berlin
BEGIN:STANDARD
DTSTART:20001029T040000
RRULE:FREQ=YEARLY;BYDAY=-1SU;BYMONTH=10
TZNAME:CET
TZOFFSETFROM:+0200
TZOFFSETTO:+0100
END:STANDARD
BEGIN:DAYLIGHT
DTSTART:20000326T030000
RRULE:FREQ=YEARLY;BYDAY=-1SU;BYMONTH=3
TZNAME:CEST
TZOFFSETFROM:+0100
TZOFFSETTO:+0200
END:DAYLIGHT
END:VTIMEZONE
BEGIN:VEVENT
UID:pretix-endirecto-hdp26-4910622@pretix.eu
DTSTART;TZID=Europe/Berlin:20260710T193000
DTEND;TZID=Europe/Berlin:20260710T203000
DESCRIPTION:Tickets: https://pretix.eu/endirecto/hdp26/4910622/\nAdmission:
  2026-07-10 19:30\nOrganizer: Endirecto GmbH
DTSTAMP:20260424T224521Z
LOCATION:HAMBURG - Fabrik
SUMMARY:10.07.2026 - HAMBURG - Fabrik
END:VEVENT
END:VCALENDAR
