BEGIN:VCALENDAR
VERSION:2.0
PRODID:-//pretix//pretix.eu//
BEGIN:VEVENT
UID:pretix-eqrm-staerker25-ps-0@pretix.eu
DTSTART;VALUE=DATE:20250528
DTEND;VALUE=DATE:20250529
DESCRIPTION:Tickets: https://pretix.eu/eqrm/staerker25-ps/\nVeranstalter: E
 quippers Rhein-Main
DTSTAMP:20260424T114917Z
LOCATION:Equippers Rhein-Main\, Gebäude 6329\, Hauptstraße 17-19\, 55120 
 Mainz
SUMMARY:STÄRKER Pastors Summit 2025
END:VEVENT
END:VCALENDAR
