BEGIN:VCALENDAR
VERSION:2.0
PRODID:-//pretix//pretix.eu//
BEGIN:VTIMEZONE
TZID:Europe/Berlin
BEGIN:STANDARD
DTSTART:20001029T040000
RRULE:FREQ=YEARLY;BYDAY=-1SU;BYMONTH=10
TZNAME:CET
TZOFFSETFROM:+0200
TZOFFSETTO:+0100
END:STANDARD
BEGIN:DAYLIGHT
DTSTART:20000326T030000
RRULE:FREQ=YEARLY;BYDAY=-1SU;BYMONTH=3
TZNAME:CEST
TZOFFSETFROM:+0100
TZOFFSETTO:+0200
END:DAYLIGHT
END:VTIMEZONE
BEGIN:VEVENT
UID:pretix-esn-delft-neg2026-delft-0@pretix.eu
DTSTART;TZID=Europe/Berlin:20260328T091500
DTEND;TZID=Europe/Berlin:20260328T173000
DESCRIPTION:Tickets: https://pretix.eu/esn-delft/neg2026-delft/\nOrganizer:
  ESN Delft
DTSTAMP:20260424T061319Z
LOCATION:X TU Delft\,\, Mekelweg 8-10\, 2628 CD Delft
SUMMARY:National Erasmus Games 2026 Delft
END:VEVENT
END:VCALENDAR
