BEGIN:VCALENDAR
VERSION:2.0
PRODID:-//pretix//pretix.eu//
BEGIN:VTIMEZONE
TZID:Europe/Tallinn
BEGIN:STANDARD
DTSTART:20000101T000000
RRULE:FREQ=YEARLY;BYMONTH=1;UNTIL=20001231T220000Z
TZNAME:EET
TZOFFSETFROM:+0200
TZOFFSETTO:+0200
END:STANDARD
BEGIN:STANDARD
DTSTART:20021027T050000
RRULE:FREQ=YEARLY;BYDAY=-1SU;BYMONTH=10
TZNAME:EET
TZOFFSETFROM:+0300
TZOFFSETTO:+0200
END:STANDARD
BEGIN:DAYLIGHT
DTSTART:20020331T040000
RRULE:FREQ=YEARLY;BYDAY=-1SU;BYMONTH=3
TZNAME:EEST
TZOFFSETFROM:+0200
TZOFFSETTO:+0300
END:DAYLIGHT
END:VTIMEZONE
BEGIN:VEVENT
UID:pretix-esntartuevents-attw-0@pretix.eu
DTSTART;TZID=Europe/Tallinn:20260322T180000
DTEND;TZID=Europe/Tallinn:20260322T190000
DESCRIPTION:Tickets: https://pretix.eu/esntartuevents/attw/\nOrganizer: ESN
  Tartu
DTSTAMP:20260420T025040Z
LOCATION:Ülikooli 17\, Tartu
SUMMARY:Asian Tea Tasting Workshop
END:VEVENT
BEGIN:VEVENT
UID:pretix-esntartuevents-ace-0@pretix.eu
DTSTART;TZID=Europe/Tallinn:20260402T210000
DTEND;TZID=Europe/Tallinn:20260402T220000
DESCRIPTION:Tickets: https://pretix.eu/esntartuevents/ace/\nOrganizer: ESN 
 Tartu
DTSTAMP:20260420T025040Z
LOCATION:Genialistide Klubi\, Tartu
SUMMARY:Stars\, Stripes & Stories: American culture evening
END:VEVENT
BEGIN:VEVENT
UID:pretix-esntartuevents-btbt2-0@pretix.eu
DTSTART;TZID=Europe/Tallinn:20260407T183000
DTEND;TZID=Europe/Tallinn:20260407T193000
DESCRIPTION:Tickets: https://pretix.eu/esntartuevents/btbt2/\nOrganizer: ES
 N Tartu
DTSTAMP:20260420T025040Z
LOCATION:Tähe 133c\, Tartu
SUMMARY:Beer Tasting & Brewery Tour
END:VEVENT
BEGIN:VEVENT
UID:pretix-esntartuevents-set2-0@pretix.eu
DTSTART;TZID=Europe/Tallinn:20260412T080000
DTEND;TZID=Europe/Tallinn:20260412T090000
DESCRIPTION:Tickets: https://pretix.eu/esntartuevents/set2/\nOrganizer: ESN
  Tartu
DTSTAMP:20260420T025040Z
SUMMARY:South Estonia Trip
END:VEVENT
BEGIN:VEVENT
UID:pretix-esntartuevents-tgc-0@pretix.eu
DTSTART;TZID=Europe/Tallinn:20260423T170000
DTEND;TZID=Europe/Tallinn:20260423T180000
DESCRIPTION:Tickets: https://pretix.eu/esntartuevents/tgc/\nOrganizer: ESN 
 Tartu
DTSTAMP:20260420T025040Z
LOCATION:Loodusmaja\, Tartu
SUMMARY:The Great Cookoff with AEGEE
END:VEVENT
END:VCALENDAR
