BEGIN:VCALENDAR
VERSION:2.0
PRODID:-//pretix//pretix.eu//
BEGIN:VTIMEZONE
TZID:Europe/Tallinn
BEGIN:STANDARD
DTSTART:20000101T000000
RRULE:FREQ=YEARLY;BYMONTH=1;UNTIL=20001231T220000Z
TZNAME:EET
TZOFFSETFROM:+0200
TZOFFSETTO:+0200
END:STANDARD
BEGIN:STANDARD
DTSTART:20021027T050000
RRULE:FREQ=YEARLY;BYDAY=-1SU;BYMONTH=10
TZNAME:EET
TZOFFSETFROM:+0300
TZOFFSETTO:+0200
END:STANDARD
BEGIN:DAYLIGHT
DTSTART:20020331T040000
RRULE:FREQ=YEARLY;BYDAY=-1SU;BYMONTH=3
TZNAME:EEST
TZOFFSETFROM:+0200
TZOFFSETTO:+0300
END:DAYLIGHT
END:VTIMEZONE
BEGIN:VEVENT
UID:pretix-esntartuevents-poolparty1-0@pretix.eu
DTSTART;TZID=Europe/Tallinn:20251114T220000
DTEND;TZID=Europe/Tallinn:20251115T015959
DESCRIPTION:Tickets: https://pretix.eu/esntartuevents/poolparty1/\nOrganize
 r: ESN Tartu
DTSTAMP:20260420T060504Z
LOCATION:Aura veekeskus\, Tartu
SUMMARY:Pool party
END:VEVENT
END:VCALENDAR
