BEGIN:VCALENDAR
VERSION:2.0
PRODID:-//pretix//pretix.eu//
BEGIN:VTIMEZONE
TZID:Europe/Tallinn
BEGIN:STANDARD
DTSTART:20000101T000000
RRULE:FREQ=YEARLY;BYMONTH=1;UNTIL=20001231T220000Z
TZNAME:EET
TZOFFSETFROM:+0200
TZOFFSETTO:+0200
END:STANDARD
BEGIN:STANDARD
DTSTART:20021027T050000
RRULE:FREQ=YEARLY;BYDAY=-1SU;BYMONTH=10
TZNAME:EET
TZOFFSETFROM:+0300
TZOFFSETTO:+0200
END:STANDARD
BEGIN:DAYLIGHT
DTSTART:20020331T040000
RRULE:FREQ=YEARLY;BYDAY=-1SU;BYMONTH=3
TZNAME:EEST
TZOFFSETFROM:+0200
TZOFFSETTO:+0300
END:DAYLIGHT
END:VTIMEZONE
BEGIN:VEVENT
UID:pretix-esntartuevents-wsw1-0@pretix.eu
DTSTART;TZID=Europe/Tallinn:20260308T160000
DTEND;TZID=Europe/Tallinn:20260308T170000
DESCRIPTION:Tickets: https://pretix.eu/esntartuevents/wsw1/\nOrganizer: ESN
  Tartu
DTSTAMP:20260419T182342Z
SUMMARY:Winter swimming
END:VEVENT
END:VCALENDAR
