BEGIN:VCALENDAR
VERSION:2.0
PRODID:-//pretix//pretix.eu//
BEGIN:VTIMEZONE
TZID:Europe/Berlin
BEGIN:STANDARD
DTSTART:20001029T040000
RRULE:FREQ=YEARLY;BYDAY=-1SU;BYMONTH=10
TZNAME:CET
TZOFFSETFROM:+0200
TZOFFSETTO:+0100
END:STANDARD
BEGIN:DAYLIGHT
DTSTART:20000326T030000
RRULE:FREQ=YEARLY;BYDAY=-1SU;BYMONTH=3
TZNAME:CEST
TZOFFSETFROM:+0100
TZOFFSETTO:+0200
END:DAYLIGHT
END:VTIMEZONE
BEGIN:VEVENT
UID:pretix-eurobits-forschungstag-26-0@pretix.eu
DTSTART;TZID=Europe/Berlin:20260430T090000
DTEND;TZID=Europe/Berlin:20260430T150000
DESCRIPTION:Tickets: https://pretix.eu/eurobits/forschungstag-26/\nVeransta
 lter: eurobits e.V.
DTSTAMP:20260420T173859Z
LOCATION:Forschungszentrum für das Engineering Smarter Produkt-Service Sys
 teme (ZESS) der Ruhr-Universität\, Hans-Dobbertin-Str. 8\, 44803 Bochum
SUMMARY:Forschungstag Cybersicherheit NRW
END:VEVENT
END:VCALENDAR
