BEGIN:VCALENDAR
VERSION:2.0
PRODID:-//pretix//pretix.eu//
BEGIN:VTIMEZONE
TZID:Europe/Berlin
BEGIN:STANDARD
DTSTART:20001029T040000
RRULE:FREQ=YEARLY;BYDAY=-1SU;BYMONTH=10
TZNAME:CET
TZOFFSETFROM:+0200
TZOFFSETTO:+0100
END:STANDARD
BEGIN:DAYLIGHT
DTSTART:20000326T030000
RRULE:FREQ=YEARLY;BYDAY=-1SU;BYMONTH=3
TZNAME:CEST
TZOFFSETFROM:+0100
TZOFFSETTO:+0200
END:DAYLIGHT
END:VTIMEZONE
BEGIN:VEVENT
UID:pretix-eurotoi-eurotoi-2024-0@pretix.eu
DTSTART;TZID=Europe/Berlin:20240125T100000
DTEND;TZID=Europe/Berlin:20240126T183000
DESCRIPTION:Tickets: https://pretix.eu/eurotoi/eurotoi-2024/\nOrganizer: EU
 ROTOI GbR
DTSTAMP:20260426T042559Z
LOCATION:HALLE MESSE GmbH\, 06116 Halle (Saale)\, Germany
SUMMARY:EUROTOI 2024
END:VEVENT
END:VCALENDAR
