BEGIN:VCALENDAR
VERSION:2.0
PRODID:-//pretix//pretix.eu//
BEGIN:VTIMEZONE
TZID:Europe/Berlin
BEGIN:STANDARD
DTSTART:20001029T040000
RRULE:FREQ=YEARLY;BYDAY=-1SU;BYMONTH=10
TZNAME:CET
TZOFFSETFROM:+0200
TZOFFSETTO:+0100
END:STANDARD
BEGIN:DAYLIGHT
DTSTART:20000326T030000
RRULE:FREQ=YEARLY;BYDAY=-1SU;BYMONTH=3
TZNAME:CEST
TZOFFSETFROM:+0100
TZOFFSETTO:+0200
END:DAYLIGHT
END:VTIMEZONE
BEGIN:VEVENT
UID:pretix-fachtag-projekt-bsp-april2021-0@pretix.eu
DTSTART;TZID=Europe/Berlin:20210419T093000
DTEND;TZID=Europe/Berlin:20210419T163000
DESCRIPTION:Tickets: https://pretix.eu/fachtag-projekt-bsp/april2021/\nVera
 nstalter: pro familia Landesverband Baden-Württemberg e.V. / Landesverban
 d Baden-Württemberg der Lebenshilfe für Menschen mit Behinderung e.V.
DTSTAMP:20260419T204149Z
LOCATION:Online Veranstaltungsplattform "Venueless"
SUMMARY:Virtueller Fachtag "liebe • lieber • selbst • bestimmt"
END:VEVENT
END:VCALENDAR
