BEGIN:VCALENDAR
VERSION:2.0
PRODID:-//pretix//pretix.eu//
BEGIN:VEVENT
UID:pretix-faktor-d-mitmacht2025-0@pretix.eu
DTSTART;VALUE=DATE:20251119
DTEND;VALUE=DATE:20251216
DESCRIPTION:Tickets: https://pretix.eu/faktor-d/mitmacht2025/\nVeranstalter
 : Faktor D
DTSTAMP:20260422T093714Z
LOCATION:Wien\, Österreich
SUMMARY:Mitmacht Festival 2025
END:VEVENT
END:VCALENDAR
