BEGIN:VCALENDAR
VERSION:2.0
PRODID:-//pretix//pretix.eu//
BEGIN:VTIMEZONE
TZID:Europe/Berlin
BEGIN:STANDARD
DTSTART:20001029T040000
RRULE:FREQ=YEARLY;BYDAY=-1SU;BYMONTH=10
TZNAME:CET
TZOFFSETFROM:+0200
TZOFFSETTO:+0100
END:STANDARD
BEGIN:DAYLIGHT
DTSTART:20000326T030000
RRULE:FREQ=YEARLY;BYDAY=-1SU;BYMONTH=3
TZNAME:CEST
TZOFFSETFROM:+0100
TZOFFSETTO:+0200
END:DAYLIGHT
END:VTIMEZONE
BEGIN:VEVENT
UID:pretix-fallingwalls-sciencesummit26-0@pretix.eu
DTSTART;TZID=Europe/Berlin:20261106T090000
DTEND;TZID=Europe/Berlin:20261109T210000
DESCRIPTION:Tickets: https://pretix.eu/fallingwalls/sciencesummit26/\nAdmis
 sion: 2026-11-06 08:00\nOrganizer: Falling Walls Foundation
DTSTAMP:20260420T114133Z
LOCATION:Karl-Marx-Allee 34\, 10178 Berlin
SUMMARY:Falling Walls Science Summit 2026
END:VEVENT
END:VCALENDAR
