BEGIN:VCALENDAR
VERSION:2.0
PRODID:-//pretix//pretix.eu//
BEGIN:VTIMEZONE
TZID:Europe/Berlin
BEGIN:STANDARD
DTSTART:20001029T040000
RRULE:FREQ=YEARLY;BYDAY=-1SU;BYMONTH=10
TZNAME:CET
TZOFFSETFROM:+0200
TZOFFSETTO:+0100
END:STANDARD
BEGIN:DAYLIGHT
DTSTART:20000326T030000
RRULE:FREQ=YEARLY;BYDAY=-1SU;BYMONTH=3
TZNAME:CEST
TZOFFSETFROM:+0100
TZOFFSETTO:+0200
END:DAYLIGHT
END:VTIMEZONE
BEGIN:VEVENT
UID:pretix-fcgbt-06feb-0@pretix.eu
DTSTART;TZID=Europe/Berlin:20220206T103000
DTEND;TZID=Europe/Berlin:20220206T114500
DESCRIPTION:Tickets: https://pretix.eu/fcgbt/06feb/\nEinlass: 06.02.2022 10
 :00\nVeranstalter: Freie Christengemeinde Bayreuth
DTSTAMP:20260420T094033Z
LOCATION:Freie Christengemeinde Bayreuth\, Wittelsbacherring 2-6\, 95444 Ba
 yreuth
SUMMARY:Gottesdienst 06 Feb
END:VEVENT
END:VCALENDAR
