BEGIN:VCALENDAR
VERSION:2.0
PRODID:-//pretix//pretix.eu//
BEGIN:VTIMEZONE
TZID:Europe/Berlin
BEGIN:STANDARD
DTSTART:20001029T040000
RRULE:FREQ=YEARLY;BYDAY=-1SU;BYMONTH=10
TZNAME:CET
TZOFFSETFROM:+0200
TZOFFSETTO:+0100
END:STANDARD
BEGIN:DAYLIGHT
DTSTART:20000326T030000
RRULE:FREQ=YEARLY;BYDAY=-1SU;BYMONTH=3
TZNAME:CEST
TZOFFSETFROM:+0100
TZOFFSETTO:+0200
END:DAYLIGHT
END:VTIMEZONE
BEGIN:VEVENT
UID:pretix-feltroomberlin-22.3.26-SR.RL-0@pretix.eu
DTSTART;TZID=Europe/Berlin:20260321T190000
DTEND;TZID=Europe/Berlin:20260321T200000
DESCRIPTION:Tickets: https://pretix.eu/feltroomberlin/22.3.26-SR.RL/\nOrgan
 izer: Felt Room Berlin
DTSTAMP:20260421T015437Z
LOCATION:Simplonstrasse 19\, Berlin 10245
SUMMARY:Felt Room presents: Sophie Riviere & Ron Lopata
END:VEVENT
BEGIN:VEVENT
UID:pretix-feltroomberlin-PD26.FR1.28.3.26-0@pretix.eu
DTSTART;TZID=Europe/Berlin:20260328T190000
DTEND;TZID=Europe/Berlin:20260328T200000
DESCRIPTION:Tickets: https://pretix.eu/feltroomberlin/PD26.FR1.28.3.26/\nOr
 ganizer: Felt Room Berlin
DTSTAMP:20260421T015437Z
LOCATION:Simplonstrasse 34\, Berlin 10245
SUMMARY:Piano Day 2026: Felt Room & Friends - 1st Birthday
END:VEVENT
BEGIN:VEVENT
UID:pretix-feltroomberlin-MAT.19.4.26-S.AG-0@pretix.eu
DTSTART;TZID=Europe/Berlin:20260419T150000
DTEND;TZID=Europe/Berlin:20260419T160000
DESCRIPTION:Tickets: https://pretix.eu/feltroomberlin/MAT.19.4.26-S.AG/\nOr
 ganizer: Felt Room Berlin
DTSTAMP:20260421T015437Z
LOCATION:Simplonstrasse 19\, Berlin 10245
SUMMARY:Felt Room presents: Samyula & Akhil Garg (Matinée)
END:VEVENT
BEGIN:VEVENT
UID:pretix-feltroomberlin-MAT.10.5.26-V.AL-0@pretix.eu
DTSTART;TZID=Europe/Berlin:20260510T150000
DTEND;TZID=Europe/Berlin:20260510T160000
DESCRIPTION:Tickets: https://pretix.eu/feltroomberlin/MAT.10.5.26-V.AL/\nOr
 ganizer: Felt Room Berlin
DTSTAMP:20260421T015437Z
LOCATION:Simplonstrasse 19\, Berlin 10245
SUMMARY:Felt Room presents: Vargkvint & Aliya Lark (Matinée)
END:VEVENT
BEGIN:VEVENT
UID:pretix-feltroomberlin-MAT.31.5.26-NC.R-0@pretix.eu
DTSTART;TZID=Europe/Berlin:20260531T150000
DTEND;TZID=Europe/Berlin:20260531T160000
DESCRIPTION:Tickets: https://pretix.eu/feltroomberlin/MAT.31.5.26-NC.R/\nOr
 ganizer: Felt Room Berlin
DTSTAMP:20260421T015437Z
LOCATION:Simplonstrasse 19\, Berlin 10245
SUMMARY:Felt Room presents: Nicolas Christ & Rob Connor (Matinée)
END:VEVENT
BEGIN:VEVENT
UID:pretix-feltroomberlin-EVE.31.5.26-NC.R-0@pretix.eu
DTSTART;TZID=Europe/Berlin:20260531T190000
DTEND;TZID=Europe/Berlin:20260531T200000
DESCRIPTION:Tickets: https://pretix.eu/feltroomberlin/EVE.31.5.26-NC.R/\nOr
 ganizer: Felt Room Berlin
DTSTAMP:20260421T015437Z
LOCATION:Simplonstrasse 19\, Berlin 10245
SUMMARY:Felt Room presents: Nicolas Christ & Rob Connor (Evening)
END:VEVENT
BEGIN:VEVENT
UID:pretix-feltroomberlin-MAT.17.7.26-VR.O-0@pretix.eu
DTSTART;TZID=Europe/Berlin:20260712T150000
DTEND;TZID=Europe/Berlin:20260712T160000
DESCRIPTION:Tickets: https://pretix.eu/feltroomberlin/MAT.17.7.26-VR.O/\nOr
 ganizer: Felt Room Berlin
DTSTAMP:20260421T015437Z
LOCATION:Simplonstrasse 19\, Berlin 10245
SUMMARY:Felt Room presents: Vivian Roost & Ô Lake (Matinée)
END:VEVENT
BEGIN:VEVENT
UID:pretix-feltroomberlin-EVE.12.7.26-VR.O-0@pretix.eu
DTSTART;TZID=Europe/Berlin:20260712T190000
DTEND;TZID=Europe/Berlin:20260712T200000
DESCRIPTION:Tickets: https://pretix.eu/feltroomberlin/EVE.12.7.26-VR.O/\nOr
 ganizer: Felt Room Berlin
DTSTAMP:20260421T015437Z
LOCATION:Simplonstrasse 19\, Berlin 10245
SUMMARY:Felt Room presents: Vivian Roost & Ö Lake (Evening)
END:VEVENT
END:VCALENDAR
