BEGIN:VCALENDAR
VERSION:2.0
PRODID:-//pretix//pretix.eu//
BEGIN:VTIMEZONE
TZID:Europe/Berlin
BEGIN:STANDARD
DTSTART:20001029T040000
RRULE:FREQ=YEARLY;BYDAY=-1SU;BYMONTH=10
TZNAME:CET
TZOFFSETFROM:+0200
TZOFFSETTO:+0100
END:STANDARD
BEGIN:DAYLIGHT
DTSTART:20000326T030000
RRULE:FREQ=YEARLY;BYDAY=-1SU;BYMONTH=3
TZNAME:CEST
TZOFFSETFROM:+0100
TZOFFSETTO:+0200
END:DAYLIGHT
END:VTIMEZONE
BEGIN:VEVENT
UID:pretix-fhstp-openlecture-2025-4-0@pretix.eu
DTSTART;TZID=Europe/Berlin:20251118T180000
DTEND;TZID=Europe/Berlin:20251118T200000
DESCRIPTION:Tickets: https://pretix.eu/fhstp/openlecture-2025-4/\nVeranstal
 ter: USTP – Hochschule St. Pölten\, Campus-Platz 1\, 3100 St. Pölten
DTSTAMP:20260420T123445Z
LOCATION:***ONLINE-Veranstaltung***\, Campus St. Pölten\, Campus-Platz 1\,
  3100 St. Pölten
SUMMARY:Open Lecture: Fluchtmigrant*innen –  Weltbürger*innen ohne Recht
 e. Anthropologische Perspektiven auf ein Zukunftsphänomen
END:VEVENT
END:VCALENDAR
