BEGIN:VCALENDAR
VERSION:2.0
PRODID:-//pretix//pretix.eu//
BEGIN:VTIMEZONE
TZID:Europe/Berlin
BEGIN:STANDARD
DTSTART:20001029T040000
RRULE:FREQ=YEARLY;BYDAY=-1SU;BYMONTH=10
TZNAME:CET
TZOFFSETFROM:+0200
TZOFFSETTO:+0100
END:STANDARD
BEGIN:DAYLIGHT
DTSTART:20000326T030000
RRULE:FREQ=YEARLY;BYDAY=-1SU;BYMONTH=3
TZNAME:CEST
TZOFFSETFROM:+0100
TZOFFSETTO:+0200
END:DAYLIGHT
END:VTIMEZONE
BEGIN:VEVENT
UID:pretix-figurentheater-grashuepfer-78nrd-4829664@pretix.eu
DTSTART;TZID=Europe/Berlin:20260515T180000
DTEND;TZID=Europe/Berlin:20260515T190000
DESCRIPTION:Tickets: https://pretix.eu/figurentheater-grashuepfer/78nrd/482
 9664/\nVeranstalter: Figurentheater Grashüpfer
DTSTAMP:20260423T175005Z
LOCATION:Figurentheater Grashüpfer\, Puschkinallee 16a\, 12435
SUMMARY:Märchenabend: Jungen und Mädchen\, sich als Hirte oder Hirtin ver
 dingen und dabei wundersamen Tieren und geheimnisvollen Wesen begegnen
END:VEVENT
END:VCALENDAR
