BEGIN:VCALENDAR
VERSION:2.0
PRODID:-//pretix//pretix.eu//
BEGIN:VTIMEZONE
TZID:Europe/Berlin
BEGIN:STANDARD
DTSTART:20001029T040000
RRULE:FREQ=YEARLY;BYDAY=-1SU;BYMONTH=10
TZNAME:CET
TZOFFSETFROM:+0200
TZOFFSETTO:+0100
END:STANDARD
BEGIN:DAYLIGHT
DTSTART:20000326T030000
RRULE:FREQ=YEARLY;BYDAY=-1SU;BYMONTH=3
TZNAME:CEST
TZOFFSETFROM:+0100
TZOFFSETTO:+0200
END:DAYLIGHT
END:VTIMEZONE
BEGIN:VEVENT
UID:pretix-figurentheater-grashuepfer-j3g9m-4196802@pretix.eu
DTSTART;TZID=Europe/Berlin:20241117T110000
DTEND;TZID=Europe/Berlin:20241117T120000
DESCRIPTION:Tickets: https://pretix.eu/figurentheater-grashuepfer/j3g9m/419
 6802/\nVeranstalter: Figurentheater Grashüpfer
DTSTAMP:20260423T150933Z
LOCATION:Puschkinallee 16 a\, 12435 Berlin
SUMMARY:Rotkäppchen 2.0
END:VEVENT
END:VCALENDAR
