BEGIN:VCALENDAR
VERSION:2.0
PRODID:-//pretix//pretix.eu//
BEGIN:VTIMEZONE
TZID:Europe/Berlin
BEGIN:STANDARD
DTSTART:20001029T040000
RRULE:FREQ=YEARLY;BYDAY=-1SU;BYMONTH=10
TZNAME:CET
TZOFFSETFROM:+0200
TZOFFSETTO:+0100
END:STANDARD
BEGIN:DAYLIGHT
DTSTART:20000326T030000
RRULE:FREQ=YEARLY;BYDAY=-1SU;BYMONTH=3
TZNAME:CEST
TZOFFSETFROM:+0100
TZOFFSETTO:+0200
END:DAYLIGHT
END:VTIMEZONE
BEGIN:VEVENT
UID:pretix-figurentheater-grashuepfer-k8qng-4276444@pretix.eu
DTSTART;TZID=Europe/Berlin:20250402T100000
DTEND;TZID=Europe/Berlin:20250402T110000
DESCRIPTION:Tickets: https://pretix.eu/figurentheater-grashuepfer/k8qng/427
 6444/\nVeranstalter: Figurentheater Grashüpfer
DTSTAMP:20260424T033406Z
LOCATION:Figurentheater Grashüpfer
SUMMARY:In der Hasenschule
END:VEVENT
END:VCALENDAR
