BEGIN:VCALENDAR
VERSION:2.0
PRODID:-//pretix//pretix.eu//
BEGIN:VTIMEZONE
TZID:Europe/Berlin
BEGIN:STANDARD
DTSTART:20001029T040000
RRULE:FREQ=YEARLY;BYDAY=-1SU;BYMONTH=10
TZNAME:CET
TZOFFSETFROM:+0200
TZOFFSETTO:+0100
END:STANDARD
BEGIN:DAYLIGHT
DTSTART:20000326T030000
RRULE:FREQ=YEARLY;BYDAY=-1SU;BYMONTH=3
TZNAME:CEST
TZOFFSETFROM:+0100
TZOFFSETTO:+0200
END:DAYLIGHT
END:VTIMEZONE
BEGIN:VEVENT
UID:pretix-figurentheater-grashuepfer-pjsme-0@pretix.eu
DTSTART;TZID=Europe/Berlin:20230414T180000
DTEND;TZID=Europe/Berlin:20230414T190000
DESCRIPTION:Tickets: https://pretix.eu/figurentheater-grashuepfer/pjsme/\nV
 eranstalter: Figurentheater Grashüpfer
DTSTAMP:20260419T123354Z
SUMMARY:Märchenabend zum Frühling und Neubeginn: Schau mal wie es blüht 
 und wächst!
END:VEVENT
END:VCALENDAR
