BEGIN:VCALENDAR
VERSION:2.0
PRODID:-//pretix//pretix.eu//
BEGIN:VTIMEZONE
TZID:Europe/Berlin
BEGIN:STANDARD
DTSTART:20001029T040000
RRULE:FREQ=YEARLY;BYDAY=-1SU;BYMONTH=10
TZNAME:CET
TZOFFSETFROM:+0200
TZOFFSETTO:+0100
END:STANDARD
BEGIN:DAYLIGHT
DTSTART:20000326T030000
RRULE:FREQ=YEARLY;BYDAY=-1SU;BYMONTH=3
TZNAME:CEST
TZOFFSETFROM:+0100
TZOFFSETTO:+0200
END:DAYLIGHT
END:VTIMEZONE
BEGIN:VEVENT
UID:pretix-figurentheater-grashuepfer-s8b8d-3949215@pretix.eu
DTSTART;TZID=Europe/Berlin:20231104T200000
DTEND;TZID=Europe/Berlin:20231104T210000
DESCRIPTION:Tickets: https://pretix.eu/figurentheater-grashuepfer/s8b8d/394
 9215/\nVeranstalter: Figurentheater Grashüpfer
DTSTAMP:20260423T160526Z
SUMMARY:Märchenabend am Feuer für Erwachsene // Die Tochter des Königs u
 nter den Wellen
END:VEVENT
END:VCALENDAR
