BEGIN:VCALENDAR
VERSION:2.0
PRODID:-//pretix//pretix.eu//
BEGIN:VTIMEZONE
TZID:Europe/Berlin
BEGIN:STANDARD
DTSTART:20001029T040000
RRULE:FREQ=YEARLY;BYDAY=-1SU;BYMONTH=10
TZNAME:CET
TZOFFSETFROM:+0200
TZOFFSETTO:+0100
END:STANDARD
BEGIN:DAYLIGHT
DTSTART:20000326T030000
RRULE:FREQ=YEARLY;BYDAY=-1SU;BYMONTH=3
TZNAME:CEST
TZOFFSETFROM:+0100
TZOFFSETTO:+0200
END:DAYLIGHT
END:VTIMEZONE
BEGIN:VEVENT
UID:pretix-filmwinter-38FiWi-4325869@pretix.eu
DTSTART;TZID=Europe/Berlin:20250115T010000
DTEND;TZID=Europe/Berlin:20250123T000000
DESCRIPTION:Tickets: https://pretix.eu/filmwinter/38FiWi/4325869/\nOrganize
 r: Wand 5 e.V.
DTSTAMP:20260422T151902Z
LOCATION:Festival-Centre\, Tagblatt-Turm-Areal „Unterm Turm“\, Eberhard
 straße 61\, 70173 Stuttgart
SUMMARY:Festival Pass
END:VEVENT
END:VCALENDAR
