BEGIN:VCALENDAR
VERSION:2.0
PRODID:-//pretix//pretix.eu//
BEGIN:VTIMEZONE
TZID:Europe/Berlin
BEGIN:STANDARD
DTSTART:20001029T040000
RRULE:FREQ=YEARLY;BYDAY=-1SU;BYMONTH=10
TZNAME:CET
TZOFFSETFROM:+0200
TZOFFSETTO:+0100
END:STANDARD
BEGIN:DAYLIGHT
DTSTART:20000326T030000
RRULE:FREQ=YEARLY;BYDAY=-1SU;BYMONTH=3
TZNAME:CEST
TZOFFSETFROM:+0100
TZOFFSETTO:+0200
END:DAYLIGHT
END:VTIMEZONE
BEGIN:VEVENT
UID:pretix-forum-befa-BEFA-2026-0@pretix.eu
DTSTART;TZID=Europe/Berlin:20260604T100000
DTEND;TZID=Europe/Berlin:20260606T170000
DESCRIPTION:Tickets: https://pretix.eu/forum-befa/BEFA-2026/\nVeranstalter:
  FORUM BEFA GmbH & Co. KG
DTSTAMP:20260422T084021Z
LOCATION:Messe Düsseldorf Halle 14\, Stockumer Kirchstraße 61\, 40474 Dü
 sseldorf
SUMMARY:BEFA FORUM Düsseldorf 2026
END:VEVENT
END:VCALENDAR
